BEGIN:VCALENDAR
VERSION:2.0
CALSCALE:GREGORIAN
METHOD:PUBLISH
PRODID://SDFL//212700
BEGIN:VEVENT
DTSTAMP:20260423T101546
VTIMEZONE:America/Los_Angeles
DTSTART:20260520T190000Z
DTEND:20260520T200000Z
UID:212700
SUMMARY:LIVE WEBINAR: Is a Reverse Mortgage Right for Your Client? 
LOCATION:, Hosted Online via Zoom
DESCRIPTION:LIVE WEBINAR: Is a Reverse Mortgage Right for Your Client? \n\n05/20/26 12:00 PM PST\n - 05/20/26 01:00 PM PST\Description:\nIs a Reverse Mortgage Right For Your Client?  Join Pete Tentler, CRMP (Certified Reverse Mortgage Professional) to learn all about how reverse mortgages work, eligibility requirements, how a reverse mortgage can be used to buyout a spouse in dissolution of marriage cases, how they could help a client finance a new home post-dissolution, and more.  This presentation will debunk myths and misconceptions about reverse mortgages.\Details:\nSpeaker:        Pete Tentler, CRMP (Certified Reverse Mortgage Professional)\nDate:              May 20, 2026 (via Zoom)\nTime:             12 PM – 1 PM\nCost:              $10.00\nCLE:               1 hr. general participatory credit\Location:\n\nHosted Online via Zoom\n,
X-ALT-DESC;FMTTYPE=text/html:LIVE WEBINAR: Is a Reverse Mortgage Right for Your Client? <br /><br />05/20/26 12:00 PM PST - 05/20/26 01:00 PM PST<br />Description:<br /><strong>Is a Reverse Mortgage Right For Your Client?</strong>&nbsp; Join Pete Tentler, CRMP (Certified Reverse Mortgage Professional) to learn all about how reverse mortgages work, eligibility requirements, how a reverse mortgage can be used to buyout a spouse in dissolution of marriage cases, how they could help a client finance a new home post-dissolution, and more.&nbsp; This presentation will debunk myths and misconceptions about reverse mortgages.<br />Details:<br /><strong>Speaker:&nbsp;</strong>&nbsp; &nbsp; &nbsp; &nbsp;Pete Tentler, CRMP (Certified Reverse Mortgage Professional)<br />
<strong>Date:&nbsp;&nbsp;</strong>&nbsp;&nbsp;&nbsp;&nbsp;&nbsp;&nbsp;&nbsp;&nbsp;&nbsp;&nbsp;&nbsp; May 20, 2026 (via Zoom)<br />
<strong>Time: &nbsp;</strong>&nbsp;&nbsp;&nbsp;&nbsp;&nbsp;&nbsp;&nbsp;&nbsp;&nbsp;&nbsp; 12 PM &ndash; 1 PM<br />
<strong>Cost:&nbsp;</strong>&nbsp; &nbsp; &nbsp; &nbsp; &nbsp; &nbsp; &nbsp;$10.00<br />
<strong>CLE:&nbsp;&nbsp;</strong>&nbsp; &nbsp; &nbsp; &nbsp; &nbsp; &nbsp; &nbsp;1 hr. general participatory credit<br />Location:<br /><br />Hosted Online via Zoom<br />,  
PRIORITY:3
TRANSP:TRANSPARENT
BEGIN:VALARM
TRIGGER:-PT5M
ACTION:DISPLAY
DESCRIPTION:Reminder
END:VALARM
END:VEVENT
END:VCALENDAR
